BEGIN:VCALENDAR
VERSION:2.0
PRODID:-//eventon.com NONSGML v1.0//EN
CALSCALE:GREGORIAN
METHOD:PUBLISH
BEGIN:VEVENT
UID:69e78c6ad5c5f
DTSTAMP:20260421T144042Z
DTSTART:20260424T141500Z
DTEND:20260424T154500Z
LOCATION:Standort Von-Bock-Straße - V008
SUMMARY:Nachschreibtermin
DESCRIPTION:
URL:https://www.bkmh.de/events/nachschreibtermin-4/
END:VEVENT
END:VCALENDAR