BEGIN:VCALENDAR
VERSION:2.0
PRODID:-//eventon.com NONSGML v1.0//EN
CALSCALE:GREGORIAN
METHOD:PUBLISH
BEGIN:VEVENT
UID:69e9e7e07a4bb
DTSTAMP:20260423T093528Z
DTSTART:20260529T141500Z
DTEND:20260529T154500Z
LOCATION:Standort Von-Bock-Straße - V008
SUMMARY:Nachschreibtermin
DESCRIPTION:
URL:https://www.bkmh.de/events/nachschreibtermin-5/
END:VEVENT
END:VCALENDAR