BEGIN:VCALENDAR
VERSION:2.0
PRODID:-//eventon.com NONSGML v1.0//EN
CALSCALE:GREGORIAN
METHOD:PUBLISH
BEGIN:VEVENT
UID:69e9d5e394a25
DTSTAMP:20260423T081843Z
DTSTART:20260626T141500Z
DTEND:20260626T154500Z
LOCATION:Standort Von-Bock-Straße - V008
SUMMARY:Nachschreibtermin
DESCRIPTION:
URL:https://www.bkmh.de/events/nachschreibtermin-copy/
END:VEVENT
END:VCALENDAR