BEGIN:VCALENDAR
VERSION:2.0
PRODID:-//eventon.com NONSGML v1.0//EN
CALSCALE:GREGORIAN
METHOD:PUBLISH
BEGIN:VEVENT
UID:69e78b60eb3d6
DTSTAMP:20260421T143616Z
DTSTART:20260521T170000Z
DTEND:20260521T183000Z
LOCATION:beide Standorte
SUMMARY:INFO-Abend
DESCRIPTION:
URL:https://www.bkmh.de/events/info-abend/
END:VEVENT
END:VCALENDAR