BEGIN:VCALENDAR
VERSION:2.0
PRODID:-//eventon.com NONSGML v1.0//EN
CALSCALE:GREGORIAN
METHOD:PUBLISH
BEGIN:VEVENT
UID:69e7499ae7469
DTSTAMP:20260421T095538Z
DTSTART:20251125
DTEND:20251126
LOCATION:Standort Von-Bock-Straße
SUMMARY:Bildungsgangkonferenz GFB
DESCRIPTION:
URL:https://www.bkmh.de/events/bildungsgangkonferenz-gfb-3/
END:VEVENT
END:VCALENDAR