BEGIN:VCALENDAR
VERSION:2.0
PRODID:-//eventon.com NONSGML v1.0//EN
CALSCALE:GREGORIAN
METHOD:PUBLISH
BEGIN:VEVENT
UID:69e7381dbdb1e
DTSTAMP:20260421T084101Z
DTSTART:20250918
DTEND:20250919
LOCATION:
SUMMARY:Blockpraktikum KIB-U
DESCRIPTION:
URL:https://www.bkmh.de/events/blockpraktikum-kib-u/
END:VEVENT
END:VCALENDAR