BEGIN:VCALENDAR
VERSION:2.0
PRODID:-//eventon.com NONSGML v1.0//EN
CALSCALE:GREGORIAN
METHOD:PUBLISH
BEGIN:VEVENT
UID:69e7364e0f220
DTSTAMP:20260421T083318Z
DTSTART:20260227
DTEND:20260228
LOCATION:
SUMMARY:Blockpraktikum KIB-O
DESCRIPTION:
URL:https://www.bkmh.de/events/blockpraktikum-kib-o-2/
END:VEVENT
END:VCALENDAR