BEGIN:VCALENDAR
VERSION:2.0
PRODID:-//eventon.com NONSGML v1.0//EN
CALSCALE:GREGORIAN
METHOD:PUBLISH
BEGIN:VEVENT
UID:69e888e33434d
DTSTAMP:20260422T083755Z
DTSTART:20241007
DTEND:20241008
LOCATION:Standort Von-Bock-Straße
SUMMARY:Erste Hilfe Kurs EPE-M (OGS)
DESCRIPTION:
URL:https://www.bkmh.de/events/erste-hilfe-kurs-epe-m-ogs-2/
END:VEVENT
END:VCALENDAR