BEGIN:VCALENDAR
VERSION:2.0
PRODID:-//eventon.com NONSGML v1.0//EN
CALSCALE:GREGORIAN
METHOD:PUBLISH
BEGIN:VEVENT
UID:69e74887a5aa7
DTSTAMP:20260421T095103Z
DTSTART:20251211T133000Z
DTEND:20251211T150000Z
LOCATION:Standort Von-Bock-Straße
SUMMARY:Leistungstandkonferenz EVE-M/EPE-M
DESCRIPTION:
URL:https://www.bkmh.de/events/leistungstandkonferenz-eve-m-epe-m/
END:VEVENT
END:VCALENDAR