BEGIN:VCALENDAR
VERSION:2.0
PRODID:-//eventon.com NONSGML v1.0//EN
CALSCALE:GREGORIAN
METHOD:PUBLISH
BEGIN:VEVENT
UID:69e7361daa037
DTSTAMP:20260421T083229Z
DTSTART:20260311T133000Z
DTEND:20260311T150000Z
LOCATION:Standort Von-Bock-Straße
SUMMARY:Sozialpädagogischer Beirat EVE/KIB/SOB/SOC
DESCRIPTION:
URL:https://www.bkmh.de/events/sozialpaedagogischer-beirat-traegertreffen-eve/
END:VEVENT
END:VCALENDAR