BEGIN:VCALENDAR
VERSION:2.0
PRODID:-//eventon.com NONSGML v1.0//EN
CALSCALE:GREGORIAN
METHOD:PUBLISH
BEGIN:VEVENT
UID:69e736225c0bf
DTSTAMP:20260421T083234Z
DTSTART:20251201
DTEND:20251202
LOCATION:
SUMMARY:Blockpraktikum HIC-U
DESCRIPTION:
URL:https://www.bkmh.de/events/blockpraktikum-hic-u/
END:VEVENT
END:VCALENDAR