BEGIN:VCALENDAR
VERSION:2.0
PRODID:-//eventon.com NONSGML v1.0//EN
CALSCALE:GREGORIAN
METHOD:PUBLISH
BEGIN:VEVENT
UID:69e748962e221
DTSTAMP:20260421T095118Z
DTSTART:20250605T123000Z
DTEND:20250605T143000Z
LOCATION:Standort Von-Bock-Straße
SUMMARY:Anleitertreffen EPE-U (KITA)
DESCRIPTION:
URL:https://www.bkmh.de/events/anleitertreffen-eve-o-2/
END:VEVENT
END:VCALENDAR