BEGIN:VCALENDAR
VERSION:2.0
PRODID:-//eventon.com NONSGML v1.0//EN
CALSCALE:GREGORIAN
METHOD:PUBLISH
BEGIN:VEVENT
UID:69e749d02410e
DTSTAMP:20260421T095632Z
DTSTART:20260323T080000Z
DTEND:20260323T150000Z
LOCATION:Standort Von-Bock-Straße
SUMMARY:Regionalkonferenz Nord KIB
DESCRIPTION:
URL:https://www.bkmh.de/events/regionalkonferenz-nord-kib/
END:VEVENT
END:VCALENDAR